BEGIN:VCALENDAR
VERSION:2.0
PRODID:-//jEvents 2.0 for Joomla//EN
CALSCALE:GREGORIAN
METHOD:PUBLISH
BEGIN:VTIMEZONE
TZID:Indian/Mahe
BEGIN:STANDARD
DTSTART:20210405T143000
RDATE:20380119T071407
TZOFFSETFROM:+0400
TZOFFSETTO:+0400
TZNAME:Indian/Mahe +04
END:STANDARD
END:VTIMEZONE
BEGIN:VEVENT
UID:bdee4094bc83f8c78836a2ceaf0b333f
CATEGORIES:Special Events
CREATED:20220406T080922
SUMMARY:Creating a vision for a publicly funded R & D institution
LOCATION:Online
DESCRIPTION;ENCODING=QUOTED-PRINTABLE:Special Lecture\non\nCreating a vision for a publicly funded R &amp; D inst
 itution\nby\nProf. Ashish Lele,\nDirector, CSIR-NCL,\nRAB member, CeNS\non\
 nWednesday, 6 April 2022\nTime: 2:30 PM\n This event was imported from: htt
 ps://cens.res.in/en/events/eventdetail/357/-/creating-a-vision-for-a-public
 ly-funded-r-d-institution?tmpl=component
DTSTAMP:20260421T050607Z
DTSTART;TZID=Indian/Mahe:20220406T143000
DTEND;TZID=Indian/Mahe:20220406T160000
SEQUENCE:0
TRANSP:OPAQUE
END:VEVENT
END:VCALENDAR