BEGIN:VCALENDAR
VERSION:2.0
PRODID:-//jEvents 2.0 for Joomla//EN
CALSCALE:GREGORIAN
METHOD:PUBLISH
BEGIN:VTIMEZONE
TZID:Indian/Mahe
BEGIN:STANDARD
DTSTART:20210310T110000
RDATE:20380119T071407
TZOFFSETFROM:+0400
TZOFFSETTO:+0400
TZNAME:Indian/Mahe +04
END:STANDARD
END:VTIMEZONE
BEGIN:VEVENT
UID:950c82868e155fdfb643ec8f2916230e
CATEGORIES:Lecture
CREATED:20220309T131315
SUMMARY:Roopantara' - Transformation - A talk on sustainable menstruation
LOCATION:Classroom
DESCRIPTION;ENCODING=QUOTED-PRINTABLE:<p style="margin: 0px 0px 10px; color: #444444; font-family: Verdana, Helve
 tica, Arial, sans-serif; font-size: 16px; text-align: center;"><strong><spa
 n style="font-size: 12pt; font-family: helvetica;">Special Lecture on Occas
 ion of International Womens Day</span></strong></p><p>&nbsp;</p><p style="m
 argin: 0px 0px 10px; color: #444444; font-family: Verdana, Helvetica, Arial
 , sans-serif; font-size: 16px; text-align: center;"><span style="font-size:
  14pt;"><strong><span style="color: #2c363a; font-family: Roboto, sans-seri
 f; text-align: left;">Roopantara' - Transformation - A talk on sustainable 
 menstruation</span></strong></span></p><p style="margin: 0px 0px 10px; colo
 r: #444444; font-family: Verdana, Helvetica, Arial, sans-serif; font-size: 
 16px; text-align: center;"><span style="font-size: 12pt;">by</span></p><p s
 tyle="margin: 0px 0px 10px; color: #444444; font-family: Verdana, Helvetica
 , Arial, sans-serif; font-size: 16px; text-align: center;"><strong><span st
 yle="color: #2c363a; font-family: verdana, geneva; font-size: 12pt; text-al
 ign: left;">Rotarian Nisha Bellare, Social entrepreneur&nbsp;</span></stron
 g></p><p style="margin: 0px 0px 10px; color: #444444; font-family: Verdana,
  Helvetica, Arial, sans-serif; font-size: 16px; text-align: center;"><stron
 g><span style="color: #2c363a; font-family: verdana, geneva; font-size: 12p
 t; text-align: left;">&amp;&nbsp;</span></strong></p><p style="margin: 0px 
 0px 10px; color: #444444; font-family: Verdana, Helvetica, Arial, sans-seri
 f; font-size: 16px; text-align: center;"><strong><span style="color: #2c363
 a; font-family: verdana, geneva; font-size: 12pt; text-align: left;">Uma Kh
 emuka, Homemaker, Bengaluru.</span></strong><br style="color: #2c363a; font
 -family: Roboto, sans-serif; font-size: 14px; text-align: left;" /></p><p s
 tyle="margin: 0px 0px 10px; color: #444444; font-family: Verdana, Helvetica
 , Arial, sans-serif; font-size: 16px; text-align: center;"><span style="fon
 t-size: 12pt;">on</span></p><p style="margin: 0px 0px 10px; color: #444444;
  font-family: Verdana, Helvetica, Arial, sans-serif; font-size: 16px; text-
 align: center;"><strong><span style="font-size: 12pt; font-family: helvetic
 a;">Friday, 11 March 2022</span></strong></p><p style="margin: 0px 0px 10px
 ; color: #444444; font-family: Verdana, Helvetica, Arial, sans-serif; font-
 size: 16px; text-align: center;"><span style="font-family: helvetica; font-
 size: 12pt;">Time: 11:00AM</span></p> This event was imported from: https:/
 /cens.res.in/en/events/eventdetail/355/-/roopantara-transformation-a-talk-o
 n-sustainable-menstruation?tmpl=component
DTSTAMP:20260421T051521Z
DTSTART;TZID=Indian/Mahe:20220311T110000
DTEND;TZID=Indian/Mahe:20220311T123000
SEQUENCE:0
TRANSP:OPAQUE
END:VEVENT
END:VCALENDAR