BEGIN:VCALENDAR
VERSION:2.0
PRODID:-//jEvents 2.0 for Joomla//EN
CALSCALE:GREGORIAN
METHOD:PUBLISH
BEGIN:VTIMEZONE
TZID:Indian/Mahe
BEGIN:STANDARD
DTSTART:20210306T113000
RDATE:20380119T071407
TZOFFSETFROM:+0400
TZOFFSETTO:+0400
TZNAME:Indian/Mahe +04
END:STANDARD
END:VTIMEZONE
BEGIN:VEVENT
UID:b9505a6ea8566da638e7e0aae1150d91
CATEGORIES:Lecture
CREATED:20220307T131246
SUMMARY:Tale of Tiger
LOCATION:Classroom
DESCRIPTION;ENCODING=QUOTED-PRINTABLE:<p style="margin: 0px 0px 10px; color: #444444; font-family: Verdana, Helve
 tica, Arial, sans-serif; font-size: 16px; font-style: normal; font-weight: 
 400; letter-spacing: normal; orphans: 2; text-indent: 0px; text-transform: 
 none; white-space: normal; widows: 2; word-spacing: 0px; text-align: center
 ;"><strong style="font-weight: bold;"><span style="font-size: 12pt; font-fa
 mily: helvetica;">Special Lecture&nbsp;</span></strong></p><p style="text-a
 lign: center;"><span style="font-size: 12pt; font-family: verdana, geneva;"
 ><strong>Tale of Tiger</strong></span></p><p style="margin: 0px 0px 10px; c
 olor: #444444; font-family: Verdana, Helvetica, Arial, sans-serif; font-siz
 e: 16px; font-style: normal; font-weight: 400; letter-spacing: normal; orph
 ans: 2; text-indent: 0px; text-transform: none; white-space: normal; widows
 : 2; word-spacing: 0px; text-align: center;"><span style="font-size: 12pt;"
 >by</span></p><p style="margin: 0px 0px 10px; color: #444444; font-family: 
 Verdana, Helvetica, Arial, sans-serif; font-size: 16px; font-style: normal;
  font-weight: 400; letter-spacing: normal; orphans: 2; text-indent: 0px; te
 xt-transform: none; white-space: normal; widows: 2; word-spacing: 0px; text
 -align: center;"><strong style="font-weight: bold;"><span style="color: #2c
 363a; font-family: helvetica; font-size: 12pt; font-style: normal; letter-s
 pacing: normal; orphans: 2; text-align: left; text-indent: 0px; text-transf
 orm: none; white-space: normal; widows: 2; word-spacing: 0px; background-co
 lor: #ffffff; float: none;">Mr Daniel Sukumar</span></strong></p><p style="
 margin: 0px 0px 10px; color: #444444; font-family: Verdana, Helvetica, Aria
 l, sans-serif; font-size: 16px; font-style: normal; font-weight: 400; lette
 r-spacing: normal; orphans: 2; text-indent: 0px; text-transform: none; whit
 e-space: normal; widows: 2; word-spacing: 0px; text-align: center;"><span s
 tyle="color: #2c363a; font-family: verdana, geneva; font-size: 14px; font-s
 tyle: normal; font-weight: 400; letter-spacing: normal; orphans: 2; text-al
 ign: left; text-indent: 0px; text-transform: none; white-space: normal; wid
 ows: 2; word-spacing: 0px; background-color: #ffffff; float: none;">Conserv
 ationist, Wildlife researcher</span></p><p style="margin: 0px 0px 10px; col
 or: #444444; font-family: Verdana, Helvetica, Arial, sans-serif; font-size:
  16px; font-style: normal; font-weight: 400; letter-spacing: normal; orphan
 s: 2; text-indent: 0px; text-transform: none; white-space: normal; widows: 
 2; word-spacing: 0px; text-align: center;"><span style="font-size: 12pt;">o
 n</span></p><p style="margin: 0px 0px 10px; color: #444444; font-family: Ve
 rdana, Helvetica, Arial, sans-serif; font-size: 16px; font-style: normal; f
 ont-weight: 400; letter-spacing: normal; orphans: 2; text-indent: 0px; text
 -transform: none; white-space: normal; widows: 2; word-spacing: 0px; text-a
 lign: center;"><strong style="font-weight: bold;"><span style="font-size: 1
 2pt; font-family: helvetica;">Monday, 7 March 2022</span></strong></p><p st
 yle="margin: 0px 0px 10px; color: #444444; font-family: Verdana, Helvetica,
  Arial, sans-serif; font-size: 16px; font-style: normal; font-weight: 400; 
 letter-spacing: normal; orphans: 2; text-indent: 0px; text-transform: none;
  white-space: normal; widows: 2; word-spacing: 0px; text-align: center;"><s
 pan style="font-family: helvetica; font-size: 12pt;">Time: 11:30AM</span></
 p> This event was imported from: https://cens.res.in/en/events/eventdetail/
 354/-/tale-of-tiger?tmpl=component
DTSTAMP:20260421T051515Z
DTSTART;TZID=Indian/Mahe:20220307T113000
DTEND;TZID=Indian/Mahe:20220307T123000
SEQUENCE:0
TRANSP:OPAQUE
END:VEVENT
END:VCALENDAR