BEGIN:VCALENDAR
VERSION:2.0
PRODID:-//jEvents 2.0 for Joomla//EN
CALSCALE:GREGORIAN
METHOD:PUBLISH
BEGIN:VTIMEZONE
TZID:Indian/Mahe
BEGIN:STANDARD
DTSTART:20210224T150000
RDATE:20380119T071407
TZOFFSETFROM:+0400
TZOFFSETTO:+0400
TZNAME:Indian/Mahe +04
END:STANDARD
END:VTIMEZONE
BEGIN:VEVENT
UID:38abb64757173c104e6d74ea9da7789b
CATEGORIES:Thematic Seminar
CREATED:20220222T090113
SUMMARY:Photonic Crystals: Preparation techniques and Applications
LOCATION:Online
DESCRIPTION;ENCODING=QUOTED-PRINTABLE:Thematic Seminar\non\nPhotonic Crystals: Preparation techniques and Applica
 tions\nby&nbsp;\nRajalaxmi Sahoo\non\nFriday, 25 February 2022\nTime:3:00 P
 M\n This event was imported from: https://cens.res.in/en/events/eventdetail
 /352/-/photonic-crystals-preparation-techniques-and-applications?tmpl=compo
 nent
DTSTAMP:20260421T050922Z
DTSTART;TZID=Indian/Mahe:20220225T150000
DTEND;TZID=Indian/Mahe:20220225T170000
SEQUENCE:0
TRANSP:OPAQUE
END:VEVENT
END:VCALENDAR