BEGIN:VCALENDAR
VERSION:2.0
PRODID:-//jEvents 2.0 for Joomla//EN
CALSCALE:GREGORIAN
METHOD:PUBLISH
BEGIN:VTIMEZONE
TZID:Indian/Mahe
BEGIN:STANDARD
DTSTART:20210217T150000
RDATE:20380119T071407
TZOFFSETFROM:+0400
TZOFFSETTO:+0400
TZNAME:Indian/Mahe +04
END:STANDARD
END:VTIMEZONE
BEGIN:VEVENT
UID:ee0ed1ea7fe651635c06ee2fbbaeca43
CATEGORIES:Thematic Seminar
CREATED:20220215T081435
SUMMARY:Daytime Radiative Cooling
LOCATION:Online
DESCRIPTION;ENCODING=QUOTED-PRINTABLE:<p style="text-align: center;"><span style="font-size: 14pt;"><strong>Thema
 tic Seminar</strong></span></p><p style="text-align: center;"><span style="
 font-size: 12pt;">on</span></p><p style="text-align: center;"><strong><span
  style="font-size: 14pt;">Daytime Radiative Cooling</span></strong></p><p s
 tyle="text-align: center;"><span style="font-size: 12pt;">by&nbsp;</span></
 p><p style="text-align: center;"><strong><span style="font-size: 14pt;">Ami
 t Bhardwaj</span></strong></p><p style="text-align: center;"><span style="f
 ont-size: 12pt;">on</span></p><p style="text-align: center;"><strong><span 
 style="font-size: 12pt;">Friday, 18 February 2022</span></strong></p><p sty
 le="text-align: center;"><span style="font-size: 12pt;">Time:3:00 PM</span>
 </p> This event was imported from: https://cens.res.in/en/events/eventdetai
 l/351/-/daytime-radiative-cooling?tmpl=component
DTSTAMP:20260421T051521Z
DTSTART;TZID=Indian/Mahe:20220218T150000
DTEND;TZID=Indian/Mahe:20220218T170000
SEQUENCE:0
TRANSP:OPAQUE
END:VEVENT
END:VCALENDAR