BEGIN:VCALENDAR
VERSION:2.0
PRODID:-//jEvents 2.0 for Joomla//EN
CALSCALE:GREGORIAN
METHOD:PUBLISH
BEGIN:VTIMEZONE
TZID:Indian/Mahe
BEGIN:STANDARD
DTSTART:20210210T150000
RDATE:20380119T071407
TZOFFSETFROM:+0400
TZOFFSETTO:+0400
TZNAME:Indian/Mahe +04
END:STANDARD
END:VTIMEZONE
BEGIN:VEVENT
UID:61bb6498c4e16bce61416e93e0808128
CATEGORIES:Thematic Seminar
CREATED:20220204T082407
SUMMARY:Specialized Imaging techniques in Transmission Electron Microscopy
LOCATION:Online
DESCRIPTION;ENCODING=QUOTED-PRINTABLE:Thematic Seminar\non\n&nbsp;Specialized Imaging techniques in Transmission 
 Electron Microscopy\nby\n&nbsp; &nbsp; &nbsp; &nbsp; &nbsp; &nbsp; &nbsp; &
 nbsp; &nbsp; &nbsp; &nbsp; &nbsp; &nbsp; &nbsp; &nbsp; &nbsp; &nbsp; &nbsp;
  &nbsp; &nbsp; &nbsp; &nbsp; &nbsp; &nbsp; &nbsp; &nbsp; &nbsp; &nbsp; &nbs
 p; &nbsp; &nbsp; &nbsp; &nbsp; &nbsp; &nbsp; &nbsp; &nbsp; &nbsp; &nbsp; &n
 bsp; &nbsp; &nbsp; &nbsp; &nbsp; &nbsp; &nbsp; &nbsp; &nbsp; &nbsp; &nbsp; 
 &nbsp; &nbsp; &nbsp; &nbsp; &nbsp; &nbsp; &nbsp; &nbsp; &nbsp; &nbsp; &nbsp
 ; &nbsp; &nbsp; &nbsp; Ms Suchithra P\non\nFriday, 11 February 2022\nTime:3
 :00 pm\n This event was imported from: https://cens.res.in/en/events/eventd
 etail/348/-/specialized-imaging-techniques-in-transmission-electron-microsc
 opy?tmpl=component
DTSTAMP:20260421T063716Z
DTSTART;TZID=Indian/Mahe:20220211T150000
DTEND;TZID=Indian/Mahe:20220211T170000
SEQUENCE:0
TRANSP:OPAQUE
END:VEVENT
END:VCALENDAR