BEGIN:VCALENDAR
VERSION:2.0
PRODID:-//jEvents 2.0 for Joomla//EN
CALSCALE:GREGORIAN
METHOD:PUBLISH
BEGIN:VTIMEZONE
TZID:Indian/Mahe
BEGIN:STANDARD
DTSTART:20201111T150000
RDATE:20380119T071407
TZOFFSETFROM:+0400
TZOFFSETTO:+0400
TZNAME:Indian/Mahe +04
END:STANDARD
END:VTIMEZONE
BEGIN:VEVENT
UID:a8f2b0cc60aa2c91f9fd98b4c14cf906
CATEGORIES:Lecture
CREATED:20211109T085459
SUMMARY:Laser spectroscopy: From physics to chemistry, biology and medicine
LOCATION:online
DESCRIPTION;ENCODING=QUOTED-PRINTABLE:Special lecture on the occasion of Sir C.V. Raman’s Birthday \nLaser spectr
 oscopy: From physics to chemistry, biology and medicine \nby \nProf. S. Uma
 pathy, FASc, FNASc, FRSC \nDirector, IISER, Bhopal\non\nFriday,12 November,
 2021\n\n\n&nbsp;\n This event was imported from: https://cens.res.in/en/eve
 nts/eventdetail/338/-/laser-spectroscopy-from-physics-to-chemistry-biology-
 and-medicine?tmpl=component
DTSTAMP:20260420T212325Z
DTSTART;TZID=Indian/Mahe:20211112T150000
DTEND;TZID=Indian/Mahe:20211112T170000
SEQUENCE:0
TRANSP:OPAQUE
END:VEVENT
END:VCALENDAR