BEGIN:VCALENDAR
VERSION:2.0
PRODID:-//jEvents 2.0 for Joomla//EN
CALSCALE:GREGORIAN
METHOD:PUBLISH
BEGIN:VTIMEZONE
TZID:Indian/Mahe
BEGIN:STANDARD
DTSTART:20200701T150000
RDATE:20380119T071407
TZOFFSETFROM:+0400
TZOFFSETTO:+0400
TZNAME:Indian/Mahe +04
END:STANDARD
END:VTIMEZONE
BEGIN:VEVENT
UID:2eefd22f722b0adefaedbd21b687f956
CATEGORIES:JAS
CREATED:20210708T081315
SUMMARY:Ligand-Assisted Direct Photolithography of Perovskite Nanocrystals Encapsulated with Multifunctional Polymer Ligands for Stable, Full-Colored High-Resolution Displays
LOCATION:online
DESCRIPTION;ENCODING=QUOTED-PRINTABLE:<p style="margin: 0px 0px 10px; color: #444444; font-family: Verdana, Helve
 tica, Arial, sans-serif; font-size: 16px; text-align: center;"><span style=
 "font-size: 12pt;"><strong>JAS-1</strong></span></p><p style="margin: 0px 0
 px 10px; color: #444444; font-family: Verdana, Helvetica, Arial, sans-serif
 ; font-size: 16px; text-align: center;"><strong><span style="font-family: v
 erdana, geneva; font-size: 12pt;">Ligand-Assisted Direct Photolithography o
 f Perovskite Nanocrystals Encapsulated with Multifunctional Polymer Ligands
  for Stable, Full-Colored High-Resolution Displays</span></strong></p><p st
 yle="margin: 0px 0px 10px; color: #444444; font-family: Verdana, Helvetica,
  Arial, sans-serif; font-size: 16px; text-align: center;"><span style="font
 -size: 12pt;">by</span><br /><span style="font-family: verdana, geneva; fon
 t-size: 12pt;">Mr Modasser Hossain&nbsp;</span><br /><span style="font-size
 : 12pt;">on</span><br /><span style="font-size: 10pt;">Friday, 2 July 2021<
 /span><br /><span style="font-size: 10pt;">Time: 3:00 pm</span><br /><span 
 style="font-size: 10pt;">Citation: Nat.</span></p><blockquote style="color:
  #333333; font-family: 'Lucida Grande', Verdana, Arial, Helvetica, sans-ser
 if; font-size: 11px; font-style: normal; font-weight: 400; letter-spacing: 
 normal; orphans: 2; text-align: start; text-indent: 0px; text-transform: no
 ne; white-space: normal; widows: 2; word-spacing: 0px; background-color: #f
 fffff;"><blockquote><p style="margin-top: 0cm; text-align: center;"><span s
 tyle="font-family: verdana, geneva; font-size: 10pt;">Citation: Nano Lett. 
 2021, 21, 5, 2288–2295;&nbsp;<span style="font-style: normal;">DOI: 10.1021
 /acs.nanolett.1c00134</span></span></p></blockquote></blockquote> This even
 t was imported from: https://cens.res.in/en/events/eventdetail/313/-/ligand
 -assisted-direct-photolithography-of-perovskite-nanocrystals-encapsulated-w
 ith-multifunctional-polymer-ligands-for-stable-full-colored-high-reso?tmpl=
 component
DTSTAMP:20260420T212442Z
DTSTART;TZID=Indian/Mahe:20210702T150000
DTEND;TZID=Indian/Mahe:20210702T153000
SEQUENCE:0
TRANSP:OPAQUE
END:VEVENT
END:VCALENDAR