BEGIN:VCALENDAR
VERSION:2.0
PRODID:-//jEvents 2.0 for Joomla//EN
CALSCALE:GREGORIAN
METHOD:PUBLISH
BEGIN:VTIMEZONE
TZID:Indian/Mahe
BEGIN:STANDARD
DTSTART:20200205T153000
RDATE:20380119T071407
TZOFFSETFROM:+0400
TZOFFSETTO:+0400
TZNAME:Indian/Mahe +04
END:STANDARD
END:VTIMEZONE
BEGIN:VEVENT
UID:a6aa6f4a5f61032fde10c53c9b44ecea
CATEGORIES:Thematic Seminar
CREATED:20210202T085119
SUMMARY:Transpiration Driven Electrokinetic Power Generator
DESCRIPTION;ENCODING=QUOTED-PRINTABLE:                                                      Thematic Seminar\n   
                            Transpiration Driven Elctrokinetic Power Generat
 or\n                                                         by\n          
                                                   Anamul Haque\n           
                                                        on\n                
                               Friday,5 February 2021\n                     
                                Time: 3:30 P.M.\n\n                         
                                              This event was imported from: 
 https://cens.res.in/en/events/eventdetail/300/-/transpiration-driven-electr
 okinetic-power-generator?tmpl=component
DTSTAMP:20260420T212738Z
DTSTART;TZID=Indian/Mahe:20210205T153000
DTEND;TZID=Indian/Mahe:20210205T170000
SEQUENCE:0
TRANSP:OPAQUE
END:VEVENT
END:VCALENDAR