BEGIN:VCALENDAR
VERSION:2.0
PRODID:-//jEvents 2.0 for Joomla//EN
CALSCALE:GREGORIAN
METHOD:PUBLISH
BEGIN:VTIMEZONE
TZID:Indian/Mahe
BEGIN:STANDARD
DTSTART:20191204T160000
RDATE:20380119T071407
TZOFFSETFROM:+0400
TZOFFSETTO:+0400
TZNAME:Indian/Mahe +04
END:STANDARD
END:VTIMEZONE
BEGIN:VEVENT
UID:639e3fac18d1eaf89a8c36edf79e487d
CATEGORIES:JAS
CREATED:20201201T140715
SUMMARY:Anomalous absorption of electromagnetic waves by 2D transition metal carbonitride Ti3CNTx (MXene)
DESCRIPTION;ENCODING=QUOTED-PRINTABLE:<p style="margin: 0cm 0cm 7.5pt; color: #444444; font-size: 16px; text-alig
 n: center;"><strong style="font-family: Verdana, Helvetica, Arial, sans-ser
 if;"><span style="font-family: Verdana, sans-serif;">JAS-1</span></strong><
 span style="font-family: Verdana, sans-serif;"><br /><br /><span style="fon
 t-size: 12pt;"><strong>Title:</strong></span></span><span style="font-size:
  12pt;"><span style="font-family: 'Helvetica Neue', Helvetica, Arial, sans-
 serif; color: #000000; text-align: left;">Anomalous absorption of electroma
 gnetic waves by 2D transition</span><span style="color: #000000; text-align
 : left;"><span style="font-family: Helvetica, sans-serif;"></span></span><s
 pan style="color: #000000; text-align: left;">metal carbonitride Ti3CNTx (M
 Xene)</span></span></p><p style="margin: 0cm 0cm 7.5pt; color: #444444; fon
 t-size: 16px; text-align: center;"><span style="font-size: 12pt;"><span sty
 le="color: #000000; text-align: left;"></span></span><strong><span style="f
 ont-family: Helvetica, sans-serif; font-size: 12pt;">Journal:</span></stron
 g><span style="color: #000000; font-family: 'Helvetica Neue', Helvetica, Ar
 ial, sans-serif; font-size: 12pt; text-align: left;">Science</span></p><p>&
 nbsp; &nbsp; &nbsp; &nbsp; &nbsp; &nbsp; &nbsp; &nbsp; &nbsp; &nbsp; &nbsp;
  &nbsp; &nbsp; &nbsp; &nbsp; &nbsp; &nbsp; &nbsp; &nbsp; &nbsp; &nbsp; &nbs
 p; &nbsp; &nbsp; &nbsp; &nbsp; &nbsp; &nbsp; &nbsp; &nbsp; &nbsp; &nbsp; &n
 bsp; &nbsp; &nbsp; &nbsp; &nbsp; &nbsp; &nbsp; &nbsp; &nbsp; &nbsp; &nbsp; 
 &nbsp; <span style="font-size: 12pt;"><strong>DOI:</strong>10.1126/science.
 aba.7977</span></p><p style="margin: 0px 0px 10px; color: #444444; font-fam
 ily: Verdana, Helvetica, Arial, sans-serif; font-size: 16px; text-align: ce
 nter;">&nbsp; &nbsp; &nbsp; &nbsp; &nbsp; &nbsp; &nbsp; &nbsp; &nbsp; &nbsp
 ; &nbsp; &nbsp; &nbsp; &nbsp; &nbsp; &nbsp; &nbsp; &nbsp; &nbsp; &nbsp; &nb
 sp; &nbsp; &nbsp; &nbsp; &nbsp; &nbsp; &nbsp; &nbsp; &nbsp; &nbsp; &nbsp; &
 nbsp; &nbsp; &nbsp; &nbsp; &nbsp; &nbsp; &nbsp; &nbsp; &nbsp; &nbsp; &nbsp;
  &nbsp; &nbsp; &nbsp; &nbsp; &nbsp; &nbsp;</p><p style="margin: 0px 0px 10p
 x; color: #444444; font-family: Verdana, Helvetica, Arial, sans-serif; font
 -size: 16px; text-align: center;">&nbsp; by</p><p style="margin: 0px 0px 10
 px; color: #444444; font-family: Verdana, Helvetica, Arial, sans-serif; fon
 t-size: 16px; text-align: center;">&nbsp; &nbsp; &nbsp;<span style="font-si
 ze: 12pt;"><strong>&nbsp;Mr&nbsp; &nbsp;Priyabrata Sahoo.</strong></span></
 p><p style="margin: 0px 0px 10px; color: #444444; font-family: Verdana, Hel
 vetica, Arial, sans-serif; font-size: 16px; text-align: center;"><span styl
 e="font-family: Helvetica, sans-serif;">on</span></p><p style="margin: 0px 
 0px 10px; color: #444444; font-family: Verdana, Helvetica, Arial, sans-seri
 f; font-size: 16px; text-align: center;"><strong><span style="font-family: 
 Helvetica, sans-serif;">Friday,4 Dec 2020</span></strong></p><p style="marg
 in: 0px 0px 10px; color: #444444; font-family: Verdana, Helvetica, Arial, s
 ans-serif; font-size: 16px; text-align: center;"><span style="font-family: 
 Helvetica, sans-serif;">Time:4:00 P M</span></p> This event was imported fr
 om: https://cens.res.in/en/events/eventdetail/277/-/anomalous-absorption-of
 -electromagnetic-waves-by-2d-transition-metal-carbonitride-ti3cntx-mxene?tm
 pl=component
DTSTAMP:20260421T051519Z
DTSTART;TZID=Indian/Mahe:20201204T160000
DTEND;TZID=Indian/Mahe:20201204T170000
SEQUENCE:0
TRANSP:OPAQUE
END:VEVENT
END:VCALENDAR