BEGIN:VCALENDAR
VERSION:2.0
PRODID:-//jEvents 2.0 for Joomla//EN
CALSCALE:GREGORIAN
METHOD:PUBLISH
BEGIN:VTIMEZONE
TZID:Indian/Mahe
BEGIN:STANDARD
DTSTART:20191127T160000
RDATE:20380119T071407
TZOFFSETFROM:+0400
TZOFFSETTO:+0400
TZNAME:Indian/Mahe +04
END:STANDARD
END:VTIMEZONE
BEGIN:VEVENT
UID:e94d78cbf191072d3d12faab3768f88e
CATEGORIES:JAS
CREATED:20201127T112944
SUMMARY:Silicon-nanoforest-based solvent-free microsupercapacitors with    ultrahigh spatial resolution via IC-compatible in situ fabrication for on-chip energy storage
DESCRIPTION;ENCODING=QUOTED-PRINTABLE:JAS-1\n\nTitle:Silicon-nanoforest-based solvent-free microsupercapacitors w
 ith&nbsp;ultrahigh spatial resolution via IC-compatible in situ fabrication
  for&nbsp;on-chip energy storage\n                                         
   Author : Cheng Chi, Dezhao Li, Yang Li, Xin Qi, He Huang, Qi Wang,Chongji
 a Lin, Xing Zhang, Weigang Ma and&nbsp; Baoling Huang                      
                                                                            
          DOI:10.1039/D0TA07540J\nby\nMr Ramesh Chandra Sahoo\non\nFriday, 2
 7 Nov 2020\nTime: 4:00 P M\n This event was imported from: https://cens.res
 .in/en/events/eventdetail/275/-/silicon-nanoforest-based-solvent-free-micro
 supercapacitors-with-ultrahigh-spatial-resolution-via-ic-compatible-in-situ
 -fabrication-for-on-chip-energy-?tmpl=component
DTSTAMP:20260421T081459Z
DTSTART;TZID=Indian/Mahe:20201127T160000
DTEND;TZID=Indian/Mahe:20201127T170000
SEQUENCE:0
TRANSP:OPAQUE
END:VEVENT
END:VCALENDAR