BEGIN:VCALENDAR
VERSION:2.0
PRODID:-//jEvents 2.0 for Joomla//EN
CALSCALE:GREGORIAN
METHOD:PUBLISH
BEGIN:VTIMEZONE
TZID:Indian/Mahe
BEGIN:STANDARD
DTSTART:20191201T153000
RDATE:20380119T071407
TZOFFSETFROM:+0400
TZOFFSETTO:+0400
TZNAME:Indian/Mahe +04
END:STANDARD
END:VTIMEZONE
BEGIN:VEVENT
UID:9b0fe519b6714f897cd6c5c0fe7dc4f7
CATEGORIES:Cens Colloquium
CREATED:20201126T114155
SUMMARY:Patterning of Invisible Metal Mesh for Transparent Electronics
DESCRIPTION;ENCODING=QUOTED-PRINTABLE:<pre style="color: #000000; font-style: normal; font-weight: 400; letter-sp
 acing: normal; orphans: 2; text-align: -webkit-left; text-indent: 0px; text
 -transform: none; widows: 2; word-spacing: 0px; background-color: #ffffff;"
 ></pre><p style="margin: 0px 0px 10px; color: #444444; font-family: Verdana
 , Helvetica, Arial, sans-serif; font-size: 16px; text-align: center;"><span
  style="font-size: 10pt;"><strong>Colloquium</strong></span></p><p style="m
 argin: 0px 0px 10px; color: #444444; font-family: Verdana, Helvetica, Arial
 , sans-serif; font-size: 16px; text-align: center;"><strong>Patterning of I
 nvisible Metal mesh for Transparent Electronic mess</strong></p><p style="m
 argin: 0px 0px 10px; color: #444444; font-family: Verdana, Helvetica, Arial
 , sans-serif; font-size: 16px;"><strong>&nbsp; &nbsp; &nbsp; &nbsp; &nbsp; 
 &nbsp; &nbsp; &nbsp; &nbsp; &nbsp; &nbsp; &nbsp; &nbsp; &nbsp; &nbsp; &nbsp
 ; &nbsp; &nbsp; &nbsp; &nbsp; &nbsp; &nbsp; &nbsp; &nbsp; &nbsp; &nbsp; &nb
 sp; &nbsp; &nbsp; &nbsp; &nbsp; &nbsp; &nbsp; &nbsp; &nbsp; &nbsp; &nbsp; &
 nbsp;&nbsp;</strong></p><p style="margin: 0px 0px 10px; color: #444444; fon
 t-family: Verdana, Helvetica, Arial, sans-serif; font-size: 16px; text-alig
 n: center;"><strong><span style="font-size: 10pt;">by</span></strong></p><p
  style="margin: 0px 0px 10px; color: #444444; font-family: Verdana, Helveti
 ca, Arial, sans-serif; font-size: 16px; text-align: center;"><span style="f
 ont-size: 12pt;"><strong>Indrajit Mondal&nbsp;</strong></span></p><p style=
 "margin: 0px 0px 10px; color: #444444; font-family: Verdana, Helvetica, Ari
 al, sans-serif; font-size: 16px; text-align: center;"><span style="font-siz
 e: 12pt;">on</span></p><p style="margin: 0px 0px 10px; color: #444444; font
 -family: Verdana, Helvetica, Arial, sans-serif; font-size: 16px; text-align
 : center;"><span style="font-size: 12pt;">Tuesday, 01 December 2020</span><
 /p><p style="margin: 0px 0px 10px; color: #444444; font-family: Verdana, He
 lvetica, Arial, sans-serif; font-size: 16px; text-align: center;"><span sty
 le="font-size: 12pt;">Time: 3:30 P M</span></p> This event was imported fro
 m: https://cens.res.in/en/events/eventdetail/272/-/patterning-of-invisible-
 metal-mesh-for-transparent-electronics?tmpl=component
DTSTAMP:20260421T051520Z
DTSTART;TZID=Indian/Mahe:20201201T153000
DTEND;TZID=Indian/Mahe:20201201T170000
SEQUENCE:0
TRANSP:OPAQUE
END:VEVENT
END:VCALENDAR