BEGIN:VCALENDAR
VERSION:2.0
PRODID:-//jEvents 2.0 for Joomla//EN
CALSCALE:GREGORIAN
METHOD:PUBLISH
BEGIN:VTIMEZONE
TZID:Indian/Mahe
BEGIN:STANDARD
DTSTART:20191113T153000
RDATE:20380119T071407
TZOFFSETFROM:+0400
TZOFFSETTO:+0400
TZNAME:Indian/Mahe +04
END:STANDARD
END:VTIMEZONE
BEGIN:VEVENT
UID:6c23b9b6cef7e3107cf5028d08664a59
CATEGORIES:JAS
CREATED:20201112T083210
SUMMARY:Electroinduced Diffraction Gratings in Cholesteric Polymer with Phototunable Helix Pitch
DESCRIPTION;ENCODING=QUOTED-PRINTABLE:JAS-2\nTitle:"Electroinduced Diffraction Gratings in Cholesteric Polymer wi
 th Phototunable Helix Pitch"\n\n\n&nbsp; &nbsp; &nbsp; &nbsp; &nbsp; &nbsp;
  &nbsp; &nbsp; &nbsp; &nbsp; &nbsp; &nbsp; &nbsp; &nbsp; &nbsp; &nbsp; &nbs
 p; &nbsp; &nbsp; &nbsp; &nbsp; &nbsp; &nbsp; &nbsp; &nbsp; &nbsp; &nbsp; &n
 bsp; &nbsp; &nbsp; &nbsp; &nbsp; &nbsp; &nbsp; &nbsp; &nbsp; &nbsp; &nbsp; 
 A.r Ryabchun,&nbsp; A. Bobrovsky,&nbsp; J. Stumpe&nbsp; V. Shibaev\n\n\n&nb
 sp; &nbsp; &nbsp; &nbsp; &nbsp; &nbsp; &nbsp; &nbsp; &nbsp; &nbsp; &nbsp; &
 nbsp; &nbsp; &nbsp; &nbsp; &nbsp; &nbsp; &nbsp; &nbsp; &nbsp; &nbsp; &nbsp;
  &nbsp; &nbsp; &nbsp; &nbsp; &nbsp; &nbsp; &nbsp; &nbsp; &nbsp; &nbsp; &nbs
 p; &nbsp; &nbsp; &nbsp; &nbsp; &nbsp; &nbsp; Adv.Optical Mater.2015,3,1462&
 nbsp;\nDOI:10.1002/adom.201500293\nby\nMs. Rajalaxmi Sahoo\n This event was
  imported from: https://cens.res.in/en/events/eventdetail/270/-/electroindu
 ced-diffraction-gratings-in-cholesteric-polymer-with-phototunable-helix-pit
 ch?tmpl=component
DTSTAMP:20260421T081415Z
DTSTART;TZID=Indian/Mahe:20201113T153000
DTEND;TZID=Indian/Mahe:20201113T170000
SEQUENCE:0
TRANSP:OPAQUE
END:VEVENT
END:VCALENDAR