BEGIN:VCALENDAR
VERSION:2.0
PRODID:-//jEvents 2.0 for Joomla//EN
CALSCALE:GREGORIAN
METHOD:PUBLISH
BEGIN:VTIMEZONE
TZID:Indian/Mahe
BEGIN:STANDARD
DTSTART:20191106T160000
RDATE:20380119T071407
TZOFFSETFROM:+0400
TZOFFSETTO:+0400
TZNAME:Indian/Mahe +04
END:STANDARD
END:VTIMEZONE
BEGIN:VEVENT
UID:4a2553eb74c25d928ceead494b88db30
CATEGORIES:JAS
CREATED:20201103T084610
SUMMARY:Opto-thermoelectric nanotweezers
DESCRIPTION;ENCODING=QUOTED-PRINTABLE:<p style="text-align: center;"><strong>JAS-2</strong><br /><br /><span styl
 e="font-size: 10pt;"><strong>Title:"Opto-thermoelectric nanotweezers"</stro
 ng></span><br /> DOI: 10.1038/s41566-018-0134-3</p><p style="text-align: ce
 nter;">by</p><p style="text-align: center;"><strong>Mr. Amit Bhardwaj</stro
 ng></p> This event was imported from: https://cens.res.in/en/events/eventde
 tail/268/-/opto-thermoelectric-nanotweezers?tmpl=component
DTSTAMP:20260421T051520Z
DTSTART;TZID=Indian/Mahe:20201106T160000
DTEND;TZID=Indian/Mahe:20201106T163000
SEQUENCE:0
TRANSP:OPAQUE
END:VEVENT
END:VCALENDAR