BEGIN:VCALENDAR
VERSION:2.0
PRODID:-//jEvents 2.0 for Joomla//EN
CALSCALE:GREGORIAN
METHOD:PUBLISH
BEGIN:VTIMEZONE
TZID:Indian/Mahe
BEGIN:STANDARD
DTSTART:20191106T153000
RDATE:20380119T071407
TZOFFSETFROM:+0400
TZOFFSETTO:+0400
TZNAME:Indian/Mahe +04
END:STANDARD
END:VTIMEZONE
BEGIN:VEVENT
UID:35985e886349dceb7d87ce7cfe7aeef7
CATEGORIES:JAS
CREATED:20201103T083434
SUMMARY:Strain engineering of two-dimensional multilayered        heterostructures for beyond-lithium-based rechargeable batteries
DESCRIPTION;ENCODING=QUOTED-PRINTABLE:<p style="text-align: center;"><strong>JAS-2</strong></p><p style="text-ali
 gn: center;"><strong>Title:"Strain engineering of two-dimensional multilaye
 red hetero structures for beyond-lithium-based rechargeable batteries"</str
 ong></p><p style="text-align: center;">DOI:10.1038/s41467-020-17014-w</p><p
  style="text-align: center;">by <br /> Mr. Kenneth Lobo</p> This event was 
 imported from: https://cens.res.in/en/events/eventdetail/267/-/strain-engin
 eering-of-two-dimensional-multilayered-heterostructures-for-beyond-lithium-
 based-rechargeable-batteries?tmpl=component
DTSTAMP:20260421T051519Z
DTSTART;TZID=Indian/Mahe:20201106T153000
DTEND;TZID=Indian/Mahe:20201106T160000
SEQUENCE:0
TRANSP:OPAQUE
END:VEVENT
END:VCALENDAR