BEGIN:VCALENDAR
VERSION:2.0
PRODID:-//jEvents 2.0 for Joomla//EN
CALSCALE:GREGORIAN
METHOD:PUBLISH
BEGIN:VTIMEZONE
TZID:Indian/Mahe
BEGIN:STANDARD
DTSTART:20190122T153000
RDATE:20380119T071407
TZOFFSETFROM:+0400
TZOFFSETTO:+0400
TZNAME:Indian/Mahe +04
END:STANDARD
END:VTIMEZONE
BEGIN:VEVENT
UID:c573c20fa48c8ccd85161a7a2d78ac27
CATEGORIES:Cens Colloquium
CREATED:20200120T091844
SUMMARY:Thesis Colloquium  Functional materials for fundamental research and applied science: synthesis and characterization
LOCATION:Lecture Hall
DESCRIPTION;ENCODING=QUOTED-PRINTABLE:<p style="text-align: center;"><strong><span style="font-size: 12pt;">Thesi
 s Colloquium</span></strong></p><p style="text-align: center;"><span style=
 "font-size: 12pt;"></span><br /><span style="font-size: 12pt;"><strong>Func
 tional materials for fundamental research and</strong></span><br /><span st
 yle="font-size: 12pt;"><strong>applied science: synthesis and characterizat
 ion</strong></span></p><p style="text-align: center;"><br /><span style="fo
 nt-size: 12pt;">By</span></p><p style="text-align: center;"><span style="fo
 nt-size: 10pt;"></span><br /><strong><span style="font-size: 10pt;">Mr. Sac
 hin Ashok Bhat</span></strong><br /><span style="font-size: 10pt;"></span><
 /p><p style="text-align: center;"><span style="font-size: 12pt;">on</span><
 /p><p style="text-align: center;"><span style="font-size: 10pt;"><strong>Th
 ursday, 23 January 2020</strong></span><br /><span style="font-size: 10pt;"
 >Time: 3.30 P.M.</span><br /><span style="font-size: 10pt;">Venue: Lecture 
 Hall</span><br /><br /></p> This event was imported from: https://cens.res.
 in/en/events/eventdetail/253/-/thesis-colloquium-functional-materials-for-f
 undamental-research-and-applied-science-synthesis-and-characterization?tmpl
 =component
DTSTAMP:20260421T033851Z
DTSTART;TZID=Indian/Mahe:20200123T153000
DTEND;TZID=Indian/Mahe:20200123T170000
SEQUENCE:0
TRANSP:OPAQUE
END:VEVENT
END:VCALENDAR