BEGIN:VCALENDAR
VERSION:2.0
PRODID:-//jEvents 2.0 for Joomla//EN
CALSCALE:GREGORIAN
METHOD:PUBLISH
BEGIN:VTIMEZONE
TZID:Indian/Mahe
BEGIN:STANDARD
DTSTART:20180822T153000
RDATE:20380119T071407
TZOFFSETFROM:+0400
TZOFFSETTO:+0400
TZNAME:Indian/Mahe +04
END:STANDARD
END:VTIMEZONE
BEGIN:VEVENT
UID:d8b86c5f5cd270fd74780d6f0cecf1fd
CATEGORIES:JAS
CREATED:20190821T084059
SUMMARY:JAS- 1 Bacteria photosensitized by intracellular gold nanoclusters for solar fuel production
LOCATION:Lecture Hall
DESCRIPTION;ENCODING=QUOTED-PRINTABLE:<p style="text-align: center;"><span style="font-size: 12pt;"><strong>JAS-1
 </strong></span></p><p style="text-align: center;"><span style="font-size: 
 10pt;"><strong>"Bacteria photosensitized by intracellular gold nanoclusters
  for solar</strong></span><br /><span style="font-size: 10pt;"><strong>fuel
  production".</strong></span></p><p style="text-align: center;"><span style
 ="font-size: 10pt;">Journal: Nature Nanotechnology</span><br /><span style=
 "font-size: 10pt;">Cite: Nature Nanotechnology 13,900–905 (2018)</span><br 
 /><span style="font-size: 10pt;">DOI: 10.1038/s41565-018-0267-z</span></p><
 p style="text-align: center;">By</p><p style="text-align: center;"><span st
 yle="font-size: 10pt;"><strong>Trupthi Devaiah C</strong></span></p><p styl
 e="text-align: center;">On</p><p style="text-align: center;"><span style="f
 ont-size: 10pt;">Friday, 23 August 2019</span><br /><span style="font-size:
  10pt;">Time: 03.30 P.M.</span><br /><span style="font-size: 10pt;">Venue: 
 Lecture Hall</span></p> This event was imported from: https://cens.res.in/e
 n/events/eventdetail/235/-/jas-1-bacteria-photosensitized-by-intracellular-
 gold-nanoclusters-for-solar-fuel-production?tmpl=component
DTSTAMP:20260421T030052Z
DTSTART;TZID=Indian/Mahe:20190823T153000
DTEND;TZID=Indian/Mahe:20190823T170000
SEQUENCE:0
TRANSP:OPAQUE
END:VEVENT
END:VCALENDAR