BEGIN:VCALENDAR
VERSION:2.0
PRODID:-//jEvents 2.0 for Joomla//EN
CALSCALE:GREGORIAN
METHOD:PUBLISH
BEGIN:VTIMEZONE
TZID:Indian/Mahe
BEGIN:STANDARD
DTSTART:20180808T153000
RDATE:20380119T071407
TZOFFSETFROM:+0400
TZOFFSETTO:+0400
TZNAME:Indian/Mahe +04
END:STANDARD
END:VTIMEZONE
BEGIN:VEVENT
UID:b7ec93f849e4d30f4ea5818b86fc31fa
CATEGORIES:JAS
CREATED:20190729T112217
SUMMARY:JAS-2 Atomic-scale insights into surface species of electrocatalysts in three dimensions
LOCATION:Lecture Hall
DESCRIPTION;ENCODING=QUOTED-PRINTABLE:<p style="text-align: center;"><strong><span style="font-size: 12pt;">JAS-2
 </span></strong></p><p style="text-align: center;"><br /><span style="font-
 size: 12pt;"><strong>"Atomic-scale insights into surface species of electro
 catalysts in three</strong></span><br /><span style="font-size: 12pt;"><str
 ong>dimensions"</strong></span></p><p style="text-align: center;"><span sty
 le="font-size: 10pt;">Li, Tong, et al.&nbsp;Nature Catalysis 1.4 (2018): 30
 0.</span></p><p style="text-align: center;"><span style="font-size: 10pt;">
 doi:10.1038/s41929-018-0043-3</span></p><p style="text-align: center;"><spa
 n style="font-size: 12pt;">By</span></p><p style="text-align: center;"><str
 ong><span style="font-size: 12pt;">Alex C</span></strong></p><p style="text
 -align: center;"><span style="font-size: 12pt;">On</span></p><p style="text
 -align: center;"><span style="font-size: 12pt;">Friday, 9 August 2019</span
 ><br /><span style="font-size: 12pt;">Time: 03.30 P.M.</span><br /><span st
 yle="font-size: 12pt;">Venue: Lecture Hall</span></p> This event was import
 ed from: https://cens.res.in/en/events/eventdetail/232/-/jas-2-atomic-scale
 -insights-into-surface-species-of-electrocatalysts-in-three-dimensions?tmpl
 =component
DTSTAMP:20260421T013448Z
DTSTART;TZID=Indian/Mahe:20190809T153000
DTEND;TZID=Indian/Mahe:20190809T170000
SEQUENCE:0
TRANSP:OPAQUE
END:VEVENT
END:VCALENDAR