BEGIN:VCALENDAR
VERSION:2.0
PRODID:-//jEvents 2.0 for Joomla//EN
CALSCALE:GREGORIAN
METHOD:PUBLISH
BEGIN:VTIMEZONE
TZID:Indian/Mahe
BEGIN:STANDARD
DTSTART:20180805T153000
RDATE:20380119T071407
TZOFFSETFROM:+0400
TZOFFSETTO:+0400
TZNAME:Indian/Mahe +04
END:STANDARD
END:VTIMEZONE
BEGIN:VEVENT
UID:e58a56e3b82af9458f2d923335780812
CATEGORIES:JAS
CREATED:20190729T110615
SUMMARY:JAS-2 Impacts of surface depletion on the plasmonic properties of doped semiconductor nanocrystals
LOCATION:Lecture Hall
DESCRIPTION;ENCODING=QUOTED-PRINTABLE:JAS-2\n\n'Impacts of surface depletion on the plasmonic properties of doped
 \nsemiconductor nanocrystals'\nOmid Zandi etal.&nbsp;Nat.Mater.2018\ndoi - 
 10.1038/s41563-018-0130-\nBy\nGaurav Shukla\nOn\nTuesday, 6 August 2019\nTi
 me: 03.30 P.M.\nVenue: Lecture Hall\n This event was imported from: https:/
 /cens.res.in/en/events/eventdetail/231/-/jas-2-impacts-of-surface-depletion
 -on-the-plasmonic-properties-of-doped-semiconductor-nanocrystals?tmpl=compo
 nent
DTSTAMP:20260420T221917Z
DTSTART;TZID=Indian/Mahe:20190806T153000
DTEND;TZID=Indian/Mahe:20190806T170000
SEQUENCE:0
TRANSP:OPAQUE
END:VEVENT
END:VCALENDAR