BEGIN:VCALENDAR
VERSION:2.0
PRODID:-//jEvents 2.0 for Joomla//EN
CALSCALE:GREGORIAN
METHOD:PUBLISH
BEGIN:VTIMEZONE
TZID:Indian/Mahe
BEGIN:STANDARD
DTSTART:20170927T153000
RDATE:20380119T071407
TZOFFSETFROM:+0400
TZOFFSETTO:+0400
TZNAME:Indian/Mahe +04
END:STANDARD
END:VTIMEZONE
BEGIN:VEVENT
UID:56b71e9d82dd54d5123e70e0329e886b
CATEGORIES:Cens Colloquium
CREATED:20180924T113707
SUMMARY:Preparation and electronic properties of thin films of electro-active organic molecules
LOCATION:Lecture Hall
DESCRIPTION;ENCODING=QUOTED-PRINTABLE:<p style="text-align: center;"><strong>THESIS COLLOQUIUM</strong></p><p sty
 le="text-align: center;"><strong>Preparation and electronic properties of t
 hin films of electro-active</strong><br /><strong>organic molecules</strong
 ></p><p style="text-align: center;">By</p><p style="text-align: center;"><s
 trong>Mrs. Priya Madhuri K.</strong></p><p style="text-align: center;">On</
 p><p style="text-align: center;"><strong>Friday, 28 September 2018</strong>
 </p><p style="text-align: center;">Time: 3.30 P.M.</p><p style="text-align:
  center;">Venue: Lecture Hall</p> This event was imported from: https://cen
 s.res.in/en/events/eventdetail/201/-/preparation-and-electronic-properties-
 of-thin-films-of-electro-active-organic-molecules?tmpl=component
DTSTAMP:20260421T051521Z
DTSTART;TZID=Indian/Mahe:20180928T153000
DTEND;TZID=Indian/Mahe:20180928T170000
SEQUENCE:0
TRANSP:OPAQUE
END:VEVENT
END:VCALENDAR