BEGIN:VCALENDAR
VERSION:2.0
PRODID:-//jEvents 2.0 for Joomla//EN
CALSCALE:GREGORIAN
METHOD:PUBLISH
BEGIN:VTIMEZONE
TZID:Indian/Mahe
BEGIN:STANDARD
DTSTART:20170712T153000
RDATE:20380119T071407
TZOFFSETFROM:+0400
TZOFFSETTO:+0400
TZNAME:Indian/Mahe +04
END:STANDARD
END:VTIMEZONE
BEGIN:VEVENT
UID:b00bb894e4e0ce60cac9af7ae22fe664
CATEGORIES:JAS
CREATED:20180709T085906
SUMMARY:Photochemically and Thermally driven color reflection In a halogen- bonded chiral molecular switch
LOCATION:Lecture Hall
DESCRIPTION;ENCODING=QUOTED-PRINTABLE:<p style="text-align: center;">JAS – 2</p><p style="text-align: center;"><s
 trong>Photochemically and Thermally driven color reflection In a halogen-</
 strong><br /><strong>bonded chiral molecular switch</strong></p><p style="t
 ext-align: center;">Hao Wang et al.<br />Angew. Chem. Int. Ed. 2018, 57, 16
 27-1631</p><p style="text-align: center;">By</p><p style="text-align: cente
 r;"><strong>Mrs. Rekha S. Hegde</strong></p><p style="text-align: center;">
 On</p><p style="text-align: center;"><strong>Friday, 13 July 2018</strong><
 /p><p style="text-align: center;">Time: 3.30 P.M.</p><p style="text-align: 
 center;">Venue: Lecture Hall</p> This event was imported from: https://cens
 .res.in/en/events/eventdetail/194/-/photochemically-and-thermally-driven-co
 lor-reflection-in-a-halogen-bonded-chiral-molecular-switch?tmpl=component
DTSTAMP:20260421T033851Z
DTSTART;TZID=Indian/Mahe:20180713T153000
DTEND;TZID=Indian/Mahe:20180713T170000
SEQUENCE:0
TRANSP:OPAQUE
END:VEVENT
END:VCALENDAR