BEGIN:VCALENDAR
VERSION:2.0
PRODID:-//jEvents 2.0 for Joomla//EN
CALSCALE:GREGORIAN
METHOD:PUBLISH
BEGIN:VTIMEZONE
TZID:Indian/Mahe
BEGIN:STANDARD
DTSTART:20170506T153000
RDATE:20380119T071407
TZOFFSETFROM:+0400
TZOFFSETTO:+0400
TZNAME:Indian/Mahe +04
END:STANDARD
END:VTIMEZONE
BEGIN:VEVENT
UID:f8a2fe0853ce862289dee0fbc705d826
CATEGORIES:Special Events
CREATED:20180508T143748
SUMMARY:Awareness, objectives and importance of the ‘SWACHHTA PAKHWADA’- 2018
LOCATION:Lecture Hall
DESCRIPTION;ENCODING=QUOTED-PRINTABLE:Awareness, objectives and importance of the ‘SWACHHTA PAKHWADA’- 2018\nC. V
 . Yelamaggad\nRemarks by Prof. G U Kulkarni\n\n\n&nbsp;\nMass pledging\nAdm
 inistered by S. Krishna Prasad\n\n\n&nbsp;\nCleaning plans for the year 201
 8-2019:\nSubhod M. Gulvady\n\n\n&nbsp;\nMonday, 07 May 2018\nTime: 3.30 P.M
 \nVenue:&nbsp;Lecture Hall\n\n\n\n\n&nbsp;\n\n\n\n This event was imported 
 from: https://cens.res.in/en/events/eventdetail/179/-/awareness-objectives-
 and-importance-of-the-swachhta-pakhwada-2018?tmpl=component
DTSTAMP:20260421T064237Z
DTSTART;TZID=Indian/Mahe:20180507T153000
DTEND;TZID=Indian/Mahe:20180507T161000
SEQUENCE:0
TRANSP:OPAQUE
END:VEVENT
END:VCALENDAR