BEGIN:VCALENDAR
VERSION:2.0
PRODID:-//jEvents 2.0 for Joomla//EN
CALSCALE:GREGORIAN
METHOD:PUBLISH
BEGIN:VTIMEZONE
TZID:Indian/Mahe
BEGIN:STANDARD
DTSTART:20161221T153000
RDATE:20380119T071407
TZOFFSETFROM:+0400
TZOFFSETTO:+0400
TZNAME:Indian/Mahe +04
END:STANDARD
END:VTIMEZONE
BEGIN:VEVENT
UID:5b36bba6f4824b7c6b63752ba4f6dcaa
CATEGORIES:JAS
CREATED:20171220T075102
SUMMARY:JAS – 2 : Single step ambient air synthesis of graphene from renewable precursors as electrochemical genosensor
LOCATION:Lecture Hall
DESCRIPTION;ENCODING=QUOTED-PRINTABLE:<p style="text-align: center;">JAS – 2</p><p style="text-align: center;"><s
 trong>Single step ambient air synthesis of graphene from renewable</strong>
 <br /><strong>precursors as electrochemical </strong>genosensor</p><p style
 ="text-align: center;">&nbsp;</p><p style="text-align: center;">by</p><p st
 yle="text-align: center;"><strong>Mr. Rajashekhar N. Pujar</strong></p><p s
 tyle="text-align: center;">On</p><p style="text-align: center;"><strong>Fri
 day, 22 December 20</strong>17</p><p style="text-align: center;">Time: 3.30
  P.M.</p><p style="text-align: center;">Venue: Lecture Hall</p> This event 
 was imported from: https://cens.res.in/en/events/eventdetail/164/-/jas-2-si
 ngle-step-ambient-air-synthesis-of-graphene-from-renewable-precursors-as-el
 ectrochemical-genosensor?tmpl=component
DTSTAMP:20260420T212507Z
DTSTART;TZID=Indian/Mahe:20171222T153000
DTEND;TZID=Indian/Mahe:20171222T170000
SEQUENCE:0
TRANSP:OPAQUE
END:VEVENT
END:VCALENDAR