BEGIN:VCALENDAR
VERSION:2.0
PRODID:-//jEvents 2.0 for Joomla//EN
CALSCALE:GREGORIAN
METHOD:PUBLISH
BEGIN:VTIMEZONE
TZID:Indian/Mahe
BEGIN:STANDARD
DTSTART:20160626T000000
RDATE:20380119T071407
TZOFFSETFROM:+0400
TZOFFSETTO:+0400
TZNAME:Indian/Mahe +04
END:STANDARD
END:VTIMEZONE
BEGIN:VEVENT
UID:1a47812179b539d09eaee79c2a5e3b29
CATEGORIES:Workshop
CREATED:20170703T093018
SUMMARY:CeNS Manipal University joint Workshop on Advances in Nano and Soft Materials
LOCATION:LECTURE HALL
DESCRIPTION;ENCODING=QUOTED-PRINTABLE:\n\nJun 27-28, 2017\n\n\nDownloadable programme schedule\n\n\nCeNS_MU_Works
 hop_Technical_Schedule\n This event was imported from: https://cens.res.in/
 en/events/eventdetail/102/-/cens-manipal-university-joint-workshop-on-advan
 ces-in-nano-and-soft-materials?tmpl=component
DTSTAMP:20260421T051245Z
DTSTART;TZID=Indian/Mahe;VALUE=DATE:20170627
DTEND;TZID=Indian/Mahe;VALUE=DATE:20170629
SEQUENCE:0
TRANSP:OPAQUE
END:VEVENT
END:VCALENDAR