BEGIN:VCALENDAR
VERSION:2.0
PRODID:-//jEvents 2.0 for Joomla//EN
CALSCALE:GREGORIAN
METHOD:PUBLISH
BEGIN:VTIMEZONE
TZID:Indian/Mahe
BEGIN:STANDARD
DTSTART:20160615T113000
RDATE:20380119T071407
TZOFFSETFROM:+0400
TZOFFSETTO:+0400
TZNAME:Indian/Mahe +04
END:STANDARD
END:VTIMEZONE
BEGIN:VEVENT
UID:a88c954e8a19f4112a89360d0bfb4ba9
CATEGORIES:CeNS Seminar
CREATED:20170703T092659
SUMMARY:Seminar on Atomic Scale Capillaries
LOCATION:LECTURE HALL
DESCRIPTION;ENCODING=QUOTED-PRINTABLE:<div style="font-family: Verdana,Helvetica,Arial,sans-serif; font-size: 16p
 x; line-height: 1.6; width: 70%; float: left; text-align: justify; margin-t
 op: 20px;"><p style="text-align: center;">Seminar on Atomic Scale Capillari
 es</p><p style="text-align: center;">by</p><p style="text-align: center;"><
 strong>Dr.Radha Boya</strong></p><p style="text-align: center;">University 
 of Manchester, UK</p><p style="text-align: center;">on</p><p style="text-al
 ign: center;">Friday, 16 June 2017</p><p style="text-align: center;">Time:&
 nbsp;11.30 A.M.</p><p style="text-align: center;">Venue: Lecture Hall</p></
 div> This event was imported from: https://cens.res.in/en/events/eventdetai
 l/100/-/seminar-on-atomic-scale-capillaries?tmpl=component
DTSTAMP:20260421T033852Z
DTSTART;TZID=Indian/Mahe:20170616T113000
DTEND;TZID=Indian/Mahe:20170616T130000
SEQUENCE:0
TRANSP:OPAQUE
END:VEVENT
END:VCALENDAR