BEGIN:VCALENDAR
VERSION:2.0
PRODID:-//jEvents 2.0 for Joomla//EN
CALSCALE:GREGORIAN
METHOD:PUBLISH
BEGIN:VTIMEZONE
TZID:Indian/Mahe
BEGIN:STANDARD
DTSTART:20151019T153000
RDATE:20380119T071407
TZOFFSETFROM:+0400
TZOFFSETTO:+0400
TZNAME:Indian/Mahe +04
END:STANDARD
END:VTIMEZONE
BEGIN:VEVENT
UID:7a90b8bce2a1cb4dfd4ff69bafe746ab
CATEGORIES:Cens Colloquium
CREATED:20170703T083914
SUMMARY:Thesis Colloquium :Synthesis and Properties of Graphene-based Hybrid Materials Employing Chemical Routes
LOCATION:LECTURE HALL
DESCRIPTION;ENCODING=QUOTED-PRINTABLE:<div style="font-family: Verdana,Helvetica,Arial,sans-serif; font-size: 16p
 x; line-height: 1.6; width: 70%; float: left; text-align: justify; margin-t
 op: 20px;"><p style="text-align: center;">Thesis Colloquium :Synthesis and 
 Properties of Graphene-based Hybrid Materials Employing Chemical Routes</p>
 <p style="text-align: center;">by</p><p style="text-align: center;"><strong
 >Mr. Bramhaiah K.</strong></p><p style="text-align: center;">on</p><p style
 ="text-align: center;">Wednesday, 19 October 2016</p><p style="text-align: 
 center;">Time:&nbsp;3.30 P.M.</p><p style="text-align: center;">Venue: Lect
 ure Hall</p></div> This event was imported from: https://cens.res.in/en/abo
 ut-us/people/eventdetail/73/-/thesis-colloquium-synthesis-and-properties-of
 -graphene-based-hybrid-materials-employing-chemical-routes?tmpl=component
DTSTAMP:20260423T225221Z
DTSTART;TZID=Indian/Mahe:20161019T153000
SEQUENCE:0
TRANSP:OPAQUE
END:VEVENT
END:VCALENDAR