BEGIN:VCALENDAR
VERSION:2.0
PRODID:-//jEvents 2.0 for Joomla//EN
CALSCALE:GREGORIAN
METHOD:PUBLISH
BEGIN:VTIMEZONE
TZID:Indian/Mahe
BEGIN:STANDARD
DTSTART:20140903T153000
RDATE:20380119T071407
TZOFFSETFROM:+0400
TZOFFSETTO:+0400
TZNAME:Indian/Mahe +04
END:STANDARD
END:VTIMEZONE
BEGIN:VEVENT
UID:d5c54198a2a1339004ede514f6d94c87
CATEGORIES:CeNS Seminar
CREATED:20170630T134356
SUMMARY:SEMINAR On Dilational Rheology of Ferroelectric Copolymer at Air-Water Interface
LOCATION:LECTURE HALL
DESCRIPTION;ENCODING=QUOTED-PRINTABLE:SEMINAR On Dilational Rheology of Ferroelectric Copolymer at Air-Water Inte
 rface\nby\nChandan Kumar\non\nFriday, 4 September 2015\nTime:&nbsp;3.30 P.M
 .\nVenue: Lecture Hall\n This event was imported from: https://cens.res.in/
 en/about-us/people/eventdetail/17/-/seminar-on-dilational-rheology-of-ferro
 electric-copolymer-at-air-water-interface?tmpl=component
DTSTAMP:20260424T003756Z
DTSTART;TZID=Indian/Mahe:20150904T153000
SEQUENCE:0
TRANSP:OPAQUE
END:VEVENT
END:VCALENDAR